BEGIN:VCALENDAR
VERSION:2.0
PRODID:-//eventon.com NONSGML v1.0//EN
BEGIN:VEVENT
UID:69e4c8c181d4e
DTSTAMP:20260419T052121
DTSTART:20230406T020000Z
DTEND:20230406T023000Z
TZID:Pacific/Midway
LOCATION:
SUMMARY:Policy & Procedure Committee Meeting – April 5\,  2023
DESCRIPTION: Join Zoom Meeting https://us06web.zoom.us/j/82950722006?pwd=ckpYbjd5bHA5elkwa01PQ3IwZmhTdz09 Meeting ID: 858 0614 4991 Passcode: 961630 &nbsp; Agenda: File 4-5-23-policy-procedure-committee-meeting-agenda.pdf OUNC March 23\,  2023 Public Download\nhttps://digsafelyoregon.com/events/policy-procedure-committee-meeting-may-26-2022-copy-2/
URL:https://digsafelyoregon.com/events/policy-procedure-committee-meeting-may-26-2022-copy-2/
END:VEVENT
END:VCALENDAR