BEGIN:VCALENDAR
VERSION:2.0
PRODID:-//eventon.com NONSGML v1.0//EN
BEGIN:VEVENT
UID:69e4f56a23981
DTSTAMP:20260419T083154
DTSTART:20201208T170000Z
DTEND:20201208T190000Z
TZID:America/Los_Angeles
LOCATION:
SUMMARY:Executive Director Selection Committee Meeting - December 8\,  2020
DESCRIPTION: Conference call is available for this meeting. Please dial 1-646-307-1990. Enter conference ID: 889-738-824# View screen share at: https://join.me/DigSafe_2019 Agenda: File 12-8-20-executive-director-selection-committee-meeting.pdf OUNC November 25\,  2020 Public Download\nhttps://digsafelyoregon.com/events/executive-director-selection-committee-meeting-december-8-2020/
URL:https://digsafelyoregon.com/events/executive-director-selection-committee-meeting-december-8-2020/
END:VEVENT
END:VCALENDAR