BEGIN:VCALENDAR
VERSION:2.0
PRODID:-//eventon.com NONSGML v1.0//EN
BEGIN:VEVENT
UID:69e4e26d20ef5
DTSTAMP:20260419T071053
DTSTART:20201030T210000Z
DTEND:20201030T230000Z
TZID:Pacific/Midway
LOCATION:
SUMMARY:OAR/ORS Committee Meeting - October 30\,  2020
DESCRIPTION: Conference call is available for this meeting. Please dial 1-646-307-1990. Enter conference ID: 889-738-824# View screen share at: https://join.me/DigSafe_2019 Agenda: File 10-30-20-OAR-committee-meeting.pdf OUNC October 26\,  2020 Public Download\nhttps://digsafelyoregon.com/events/oar-ors-committee-meeting-october-30-2020/
URL:https://digsafelyoregon.com/events/oar-ors-committee-meeting-october-30-2020/
END:VEVENT
END:VCALENDAR