BEGIN:VCALENDAR
VERSION:2.0
PRODID:-//eventon.com NONSGML v1.0//EN
BEGIN:VEVENT
UID:69eb3c7ebb88e
DTSTAMP:20260424T024846
DTSTART:20200804T170000Z
DTEND:20200804T180000Z
TZID:America/Los_Angeles
LOCATION:
SUMMARY:Executive Director Selection Committee Meeting - August 4 2020
DESCRIPTION: Conference call is available for this meeting. Please dial 1-646-307-1990. Enter conference ID: 889-738-824# View screen share at: https://join.me/DigSafe_2019 Agenda: File 8-4-20-executive-director-selection-committee-meeting.pdf OUNC August 2\,  2020 Public Download\nhttps://digsafelyoregon.com/events/executive-director-selection-committee-meeting-august-4-2020/
URL:https://digsafelyoregon.com/events/executive-director-selection-committee-meeting-august-4-2020/
END:VEVENT
END:VCALENDAR