BEGIN:VCALENDAR
VERSION:2.0
PRODID:-//eventon.com NONSGML v1.0//EN
BEGIN:VEVENT
UID:69eaa2d7c4682
DTSTAMP:20260423T155311
DTSTART:20190923T220000Z
DTEND:20190923T230000Z
TZID:America/Los_Angeles
LOCATION:
SUMMARY:Damage Reporting Committee Meeting - September 23\,  2019
DESCRIPTION: NW Natural Headquarters 220 NW 2nd Avenue\,  2nd Floor Portland OR 97209 Conference call is available for this meeting. Please dial 1-646-307-1990. Enter conference ID: 889-738-824# View screen share at: https://join.me/DigSafe_2019 Agenda: File 9-23-19-Damage-Report-Committee-Meeting.pdf OUNC September 20\,  2019 Public Download\nhttps://digsafelyoregon.com/events/damage-reporting-committee-meeting-september-23-2019/
URL:https://digsafelyoregon.com/events/damage-reporting-committee-meeting-september-23-2019/
END:VEVENT
END:VCALENDAR