BEGIN:VCALENDAR
VERSION:2.0
PRODID:-//eventon.com NONSGML v1.0//EN
BEGIN:VEVENT
UID:69ea8acf9f543
DTSTAMP:20260423T141039
DTSTART:20190930T160000Z
DTEND:20190930T173000Z
TZID:America/Los_Angeles
LOCATION:Portland Bureau of Transportation 2929 N Kerby Ave.
SUMMARY:Publicity Committee Meeting – September 30\,  2019
DESCRIPTION: Portland Bureau of Transportation 2929 N Kerby Ave. Portland\,  OR 97227 Agenda: File 9-30-19-Publicity-Committee-Meeting.pdf OUNC September 13\,  2019 Public Download\nhttps://digsafelyoregon.com/events/publicity-committee-meeting-september-30-2019/
URL:https://digsafelyoregon.com/events/publicity-committee-meeting-september-30-2019/
END:VEVENT
END:VCALENDAR