BEGIN:VCALENDAR
VERSION:2.0
PRODID:-//eventon.com NONSGML v1.0//EN
BEGIN:VEVENT
UID:69e738a32c96b
DTSTAMP:20260421T014315
DTSTART:20260415T200000Z
DTEND:20260416T065000Z
TZID:America/Los_Angeles
LOCATION:
SUMMARY:4-15-26 Training and Education Committee Meeting
DESCRIPTION: Zoom Meeting Link: https://us02web.zoom.us/j/84588350564?pwd=pVGDi1OKlVI2Mt2ey3c5kxUfu2kKUY.1 Meeting ID: 845 8835 0564 Passcode: 303215\nhttps://digsafelyoregon.com/events/4-15-26-training-and-education-committee-meeting/var/event_access
URL:https://digsafelyoregon.com/events/4-15-26-training-and-education-committee-meeting/var/event_access
END:VEVENT
END:VCALENDAR